BEGIN:VCALENDAR
VERSION:2.0
PRODID:-//friendica calendar export//0.1//EN
BEGIN:VEVENT
UID:2241
DTSTAMP:20250305T174714Z
DTSTART:20250312T143000Z
DTEND:20250312T163000Z
SUMMARY:AGM and Group Showcase
LOCATION:Emmanuel Church\, Forest Road\, Loughborough\, LE11 3NW
END:VEVENT
END:VCALENDAR
